
BEGIN:VCALENDAR
VERSION:2.0
PRODID:-//SP Liestal - ECPv6.15.20//NONSGML v1.0//EN
CALSCALE:GREGORIAN
METHOD:PUBLISH
X-WR-CALNAME:SP Liestal
X-ORIGINAL-URL:https://sp-liestal.ch
X-WR-CALDESC:Veranstaltungen im SP Liestal
REFRESH-INTERVAL;VALUE=DURATION:PT1H
X-Robots-Tag:noindex
X-PUBLISHED-TTL:PT1H
BEGIN:VTIMEZONE
TZID:Europe/Zurich
BEGIN:DAYLIGHT
TZOFFSETFROM:+0100
TZOFFSETTO:+0200
TZNAME:CEST
DTSTART:20250330T010000
END:DAYLIGHT
BEGIN:STANDARD
TZOFFSETFROM:+0200
TZOFFSETTO:+0100
TZNAME:CET
DTSTART:20251026T010000
END:STANDARD
BEGIN:DAYLIGHT
TZOFFSETFROM:+0100
TZOFFSETTO:+0200
TZNAME:CEST
DTSTART:20260329T010000
END:DAYLIGHT
BEGIN:STANDARD
TZOFFSETFROM:+0200
TZOFFSETTO:+0100
TZNAME:CET
DTSTART:20261025T010000
END:STANDARD
BEGIN:DAYLIGHT
TZOFFSETFROM:+0100
TZOFFSETTO:+0200
TZNAME:CEST
DTSTART:20270328T010000
END:DAYLIGHT
BEGIN:STANDARD
TZOFFSETFROM:+0200
TZOFFSETTO:+0100
TZNAME:CET
DTSTART:20271031T010000
END:STANDARD
END:VTIMEZONE
BEGIN:VEVENT
DTSTART;VALUE=DATE:20260521
DTEND;VALUE=DATE:20260522
DTSTAMP:20260421T125959
CREATED:20260226T171240Z
LAST-MODIFIED:20260226T171240Z
UID:10000271-1779350400-1779382800@sp-liestal.ch
SUMMARY:LiMa Abgabe
DESCRIPTION:
URL:https://sp-liestal.ch/veranstaltung/lima-abgabe-2/2026-05-21/
END:VEVENT
BEGIN:VEVENT
DTSTART;VALUE=DATE:20260809
DTEND;VALUE=DATE:20260810
DTSTAMP:20260421T125959
CREATED:20260226T171240Z
LAST-MODIFIED:20260226T171240Z
UID:10000272-1786262400-1786294800@sp-liestal.ch
SUMMARY:LiMa Abgabe
DESCRIPTION:
URL:https://sp-liestal.ch/veranstaltung/lima-abgabe-2/2026-08-09/
END:VEVENT
BEGIN:VEVENT
DTSTART;VALUE=DATE:20261122
DTEND;VALUE=DATE:20261123
DTSTAMP:20260421T125959
CREATED:20260226T171240Z
LAST-MODIFIED:20260226T171240Z
UID:10000273-1795334400-1795366800@sp-liestal.ch
SUMMARY:LiMa Abgabe
DESCRIPTION:
URL:https://sp-liestal.ch/veranstaltung/lima-abgabe-2/2026-11-22/
END:VEVENT
END:VCALENDAR